BEGIN:VCALENDAR
PRODID:scnitm
VERSION:2.0
BEGIN:VTIMEZONE
TZID:my/AEST
BEGIN:STANDARD
DTSTART:19700101T010000
TZOFFSETFROM:+1000
TZOFFSETTO:+1000
END:STANDARD
END:VTIMEZONE
BEGIN:VTIMEZONE
TZID:my/AEDT
BEGIN:STANDARD
DTSTART:19700101T010000
TZOFFSETFROM:+1100
TZOFFSETTO:+1100
END:STANDARD
END:VTIMEZONE
BEGIN:VEVENT
UID:scnitm-3361335-1776774243-1
DTSTART;TZID=my/AEST:20140922T150000
DTEND;TZID=my/AEST:20140922T160000
SUMMARY:PDE Seminar: Ainsworth -- Geometric Inverse Problems and Magnetic Flows
DESCRIPTION:See scnews item https://talus.maths.usyd.edu.au/s/scnitm/daners-PDESeminar-Ainsworth-Geom
LOCATION:AGR Carslaw 829
END:VEVENT
END:VCALENDAR

