BEGIN:VCALENDAR
PRODID:scnitm
VERSION:2.0
BEGIN:VTIMEZONE
TZID:my/AEST
BEGIN:STANDARD
DTSTART:19700101T010000
TZOFFSETFROM:+1000
TZOFFSETTO:+1000
END:STANDARD
END:VTIMEZONE
BEGIN:VTIMEZONE
TZID:my/AEDT
BEGIN:STANDARD
DTSTART:19700101T010000
TZOFFSETFROM:+1100
TZOFFSETTO:+1100
END:STANDARD
END:VTIMEZONE
BEGIN:VEVENT
UID:scnitm-3358393-1776773844-1
DTSTART;TZID=my/AEST:20250925T130000
DTEND;TZID=my/AEST:20250925T140000
SUMMARY:SMRI Seminar, 'and back again: groupoids and $C^*$-algebras'
DESCRIPTION:See scnews item https://talus.maths.usyd.edu.au/s/scnitm/cmeister-SMRISeminar-Sims
LOCATION:SMRI Seminar Room (A12 Macleay Room 301)
END:VEVENT
END:VCALENDAR

