BEGIN:VCALENDAR
PRODID:scnitm
VERSION:2.0
BEGIN:VTIMEZONE
TZID:my/AEST
BEGIN:STANDARD
DTSTART:19700101T010000
TZOFFSETFROM:+1000
TZOFFSETTO:+1000
END:STANDARD
END:VTIMEZONE
BEGIN:VTIMEZONE
TZID:my/AEDT
BEGIN:STANDARD
DTSTART:19700101T010000
TZOFFSETFROM:+1100
TZOFFSETTO:+1100
END:STANDARD
END:VTIMEZONE
BEGIN:VEVENT
UID:scnitm-3357296-1776773719-1
DTSTART;TZID=my/AEDT:20260227T090000
DTEND;TZID=my/AEDT:20260227T110000
SUMMARY:Informal Friday Seminar: Nehme
DESCRIPTION:See scnews item https://talus.maths.usyd.edu.au/s/scnitm/cmeister-InformalFridaySeminar-Neh
LOCATION:SMRI Seminar Room (A12 Macleay Room 301) 
END:VEVENT
END:VCALENDAR

