BEGIN:VCALENDAR
PRODID:scnitm
VERSION:2.0
BEGIN:VTIMEZONE
TZID:my/AEST
BEGIN:STANDARD
DTSTART:19700101T010000
TZOFFSETFROM:+1000
TZOFFSETTO:+1000
END:STANDARD
END:VTIMEZONE
BEGIN:VTIMEZONE
TZID:my/AEDT
BEGIN:STANDARD
DTSTART:19700101T010000
TZOFFSETFROM:+1100
TZOFFSETTO:+1100
END:STANDARD
END:VTIMEZONE
BEGIN:VEVENT
UID:scnitm-3378842-1776778282-1
DTSTART;TZID=my/AEDT:20201111T150000
SUMMARY:Student Algebra Seminar: Mangalath -- The Chern character
DESCRIPTION:See scnews item https://talus.maths.usyd.edu.au/s/scnitm/ciappara-StudentAlgebraSeminar-Man-001
LOCATION:Zoom webinar
END:VEVENT
END:VCALENDAR

