BEGIN:VCALENDAR
PRODID:scnitm
VERSION:2.0
BEGIN:VTIMEZONE
TZID:my/AEST
BEGIN:STANDARD
DTSTART:19700101T010000
TZOFFSETFROM:+1000
TZOFFSETTO:+1000
END:STANDARD
END:VTIMEZONE
BEGIN:VTIMEZONE
TZID:my/AEDT
BEGIN:STANDARD
DTSTART:19700101T010000
TZOFFSETFROM:+1100
TZOFFSETTO:+1100
END:STANDARD
END:VTIMEZONE
BEGIN:VEVENT
UID:scnitm-3355117-1776773434-1
DTSTART;TZID=my/AEST:20250409T110000
DTEND;TZID=my/AEST:20250409T120000
SUMMARY:A complex dynamic brain from cells to systems: theory to application
DESCRIPTION:See scnews item https://talus.maths.usyd.edu.au/s/scnitm/caro-AppliedMathsSeminar-Mulle
LOCATION:AGR Carslaw 829
END:VEVENT
END:VCALENDAR

