BEGIN:VCALENDAR
PRODID:scnitm
VERSION:2.0
BEGIN:VTIMEZONE
TZID:my/AEST
BEGIN:STANDARD
DTSTART:19700101T010000
TZOFFSETFROM:+1000
TZOFFSETTO:+1000
END:STANDARD
END:VTIMEZONE
BEGIN:VTIMEZONE
TZID:my/AEDT
BEGIN:STANDARD
DTSTART:19700101T010000
TZOFFSETFROM:+1100
TZOFFSETTO:+1100
END:STANDARD
END:VTIMEZONE
BEGIN:VEVENT
UID:scnitm-3354602-1776773358-1
DTSTART;TZID=my/AEST:20250910T130000
DTEND;TZID=my/AEST:20250910T140000
SUMMARY:Feher: Integrable systems from Poisson reductions of generalized Hamiltonian torus actions
DESCRIPTION:See scnews item https://talus.maths.usyd.edu.au/s/scnitm/caro-AppliedMathsSeminar-Feher
LOCATION:Carslaw 275
END:VEVENT
END:VCALENDAR

