BEGIN:VCALENDAR
PRODID:scnitm
VERSION:2.0
BEGIN:VTIMEZONE
TZID:my/AEST
BEGIN:STANDARD
DTSTART:19700101T010000
TZOFFSETFROM:+1000
TZOFFSETTO:+1000
END:STANDARD
END:VTIMEZONE
BEGIN:VTIMEZONE
TZID:my/AEDT
BEGIN:STANDARD
DTSTART:19700101T010000
TZOFFSETFROM:+1100
TZOFFSETTO:+1100
END:STANDARD
END:VTIMEZONE
BEGIN:VEVENT
UID:scnitm-3358075-1776773793-1
DTSTART;TZID=my/AEST:20080813T080500
DTEND;TZID=my/AEST:20080813T085500
SUMMARY:MATH 2917 Special Studies Seminar: Lewis -- Topological Fundamentals, Manifolds
DESCRIPTION:See scnews item https://talus.maths.usyd.edu.au/s/scnitm/carberry-MATH2917SpecialStudiesSem
LOCATION:Carslaw 355
END:VEVENT
END:VCALENDAR

