BEGIN:VCALENDAR
PRODID:scnitm
VERSION:2.0
BEGIN:VTIMEZONE
TZID:my/AEST
BEGIN:STANDARD
DTSTART:19700101T010000
TZOFFSETFROM:+1000
TZOFFSETTO:+1000
END:STANDARD
END:VTIMEZONE
BEGIN:VTIMEZONE
TZID:my/AEDT
BEGIN:STANDARD
DTSTART:19700101T010000
TZOFFSETFROM:+1100
TZOFFSETTO:+1100
END:STANDARD
END:VTIMEZONE
BEGIN:VEVENT
UID:scnitm-3378890-1776778287-1
DTSTART;TZID=my/AEST:20080910T080500
DTEND;TZID=my/AEST:20080910T095500
SUMMARY:MATH 2917special studies seminar: Josh Ching -- Brouwer's Fixed Point Theorem
DESCRIPTION:See scnews item https://talus.maths.usyd.edu.au/s/scnitm/carberry-MASS2917specialStudiesSem
LOCATION:Carslaw 355
END:VEVENT
END:VCALENDAR

