BEGIN:VCALENDAR
PRODID:scnitm
VERSION:2.0
BEGIN:VTIMEZONE
TZID:my/AEST
BEGIN:STANDARD
DTSTART:19700101T010000
TZOFFSETFROM:+1000
TZOFFSETTO:+1000
END:STANDARD
END:VTIMEZONE
BEGIN:VTIMEZONE
TZID:my/AEDT
BEGIN:STANDARD
DTSTART:19700101T010000
TZOFFSETFROM:+1100
TZOFFSETTO:+1100
END:STANDARD
END:VTIMEZONE
BEGIN:VEVENT
UID:scnitm-3360401-1776774061-1
DTSTART;TZID=my/AEST:20110610T143000
DTEND;TZID=my/AEST:20110610T153000
SUMMARY:Colloquium: McPhedran -- Angular Lattice Sums and the Riemann Hypothesis
DESCRIPTION:See scnews item https://talus.maths.usyd.edu.au/s/scnitm/carberry-Colloquium-McPhedran-Angu
LOCATION:Carslaw 175
END:VEVENT
END:VCALENDAR

