BEGIN:VCALENDAR
PRODID:scnitm
VERSION:2.0
BEGIN:VTIMEZONE
TZID:my/AEST
BEGIN:STANDARD
DTSTART:19700101T010000
TZOFFSETFROM:+1000
TZOFFSETTO:+1000
END:STANDARD
END:VTIMEZONE
BEGIN:VTIMEZONE
TZID:my/AEDT
BEGIN:STANDARD
DTSTART:19700101T010000
TZOFFSETFROM:+1100
TZOFFSETTO:+1100
END:STANDARD
END:VTIMEZONE
BEGIN:VEVENT
UID:scnitm-3354457-1776773337-1
DTSTART;TZID=my/AEDT:20110210T150500
DTEND;TZID=my/AEDT:20110210T160000
SUMMARY:Computational Algebra Seminar: Wilson -- Computing invariant global log canonical thresholds in Magma
DESCRIPTION:See scnews item https://talus.maths.usyd.edu.au/s/scnitm/billu-ComputationalAlgebraSemin-057
LOCATION:Carslaw 535A
END:VEVENT
END:VCALENDAR

