BEGIN:VCALENDAR
PRODID:scnitm
VERSION:2.0
BEGIN:VTIMEZONE
TZID:my/AEST
BEGIN:STANDARD
DTSTART:19700101T010000
TZOFFSETFROM:+1000
TZOFFSETTO:+1000
END:STANDARD
END:VTIMEZONE
BEGIN:VTIMEZONE
TZID:my/AEDT
BEGIN:STANDARD
DTSTART:19700101T010000
TZOFFSETFROM:+1100
TZOFFSETTO:+1100
END:STANDARD
END:VTIMEZONE
BEGIN:VEVENT
UID:scnitm-3357026-1776773664-1
DTSTART;TZID=my/AEST:20250905T110000
DTEND;TZID=my/AEST:20250905T120000
SUMMARY:Holomorphic regularity and approximation of the stochastic Landau-Lifshitz-Gilbert equation
DESCRIPTION:See scnews item https://talus.maths.usyd.edu.au/s/scnitm/beng-JointUSYD-UNSWSeminarOnSt-007
LOCATION:Room 3085, Red Centre, UNSW, zoom link in the abstract
END:VEVENT
END:VCALENDAR

