BEGIN:VCALENDAR
PRODID:scnitm
VERSION:2.0
BEGIN:VTIMEZONE
TZID:my/AEST
BEGIN:STANDARD
DTSTART:19700101T010000
TZOFFSETFROM:+1000
TZOFFSETTO:+1000
END:STANDARD
END:VTIMEZONE
BEGIN:VTIMEZONE
TZID:my/AEDT
BEGIN:STANDARD
DTSTART:19700101T010000
TZOFFSETFROM:+1100
TZOFFSETTO:+1100
END:STANDARD
END:VTIMEZONE
BEGIN:VEVENT
UID:scnitm-3354925-1776773393-1
DTSTART;TZID=my/AEDT:20110325T120500
DTEND;TZID=my/AEDT:20110325T125500
SUMMARY:Algebra Seminar: Lehrer -- The second fundamental theorem of invariant theory for the orthogonal group
DESCRIPTION:See scnews item https://talus.maths.usyd.edu.au/s/scnitm/athomas-AlgebraSeminar-Lehrer-The
LOCATION:Carslaw 175
END:VEVENT
END:VCALENDAR

