BEGIN:VCALENDAR
PRODID:scnitm
VERSION:2.0
BEGIN:VTIMEZONE
TZID:my/AEST
BEGIN:STANDARD
DTSTART:19700101T010000
TZOFFSETFROM:+1000
TZOFFSETTO:+1000
END:STANDARD
END:VTIMEZONE
BEGIN:VTIMEZONE
TZID:my/AEDT
BEGIN:STANDARD
DTSTART:19700101T010000
TZOFFSETFROM:+1100
TZOFFSETTO:+1100
END:STANDARD
END:VTIMEZONE
BEGIN:VEVENT
UID:scnitm-3377062-1776777890-1
DTSTART;TZID=my/AEST:20150522T120000
DTEND;TZID=my/AEST:20150522T130000
SUMMARY:CANCELLED THIS WEEK: Special Lecture Series: Webster -- Representation theory through the lens of categorical actions
DESCRIPTION:See scnews item https://talus.maths.usyd.edu.au/s/scnitm/anthonyh-SpecialLectureSeries-Webs
LOCATION:Carslaw 375
END:VEVENT
BEGIN:VEVENT
UID:scnitm-3377062-1776777890-2
DTSTART;TZID=my/AEST:20150529T120000
DTEND;TZID=my/AEST:20150529T130000
SUMMARY:CANCELLED THIS WEEK: Special Lecture Series: Webster -- Representation theory through the lens of categorical actions
DESCRIPTION:See scnews item https://talus.maths.usyd.edu.au/s/scnitm/anthonyh-SpecialLectureSeries-Webs
LOCATION:Carslaw 375
END:VEVENT
BEGIN:VEVENT
UID:scnitm-3377062-1776777890-3
DTSTART;TZID=my/AEST:20150603T160000
DTEND;TZID=my/AEST:20150603T173000
SUMMARY:Special Lecture Series: Webster -- Representation theory through the lens of categorical actions
DESCRIPTION:See scnews item https://talus.maths.usyd.edu.au/s/scnitm/anthonyh-SpecialLectureSeries-Webs
LOCATION:AGR Carslaw 829
END:VEVENT
BEGIN:VEVENT
UID:scnitm-3377062-1776777890-4
DTSTART;TZID=my/AEST:20150610T160000
DTEND;TZID=my/AEST:20150610T173000
SUMMARY:Special Lecture Series: Webster -- Representation theory through the lens of categorical actions
DESCRIPTION:See scnews item https://talus.maths.usyd.edu.au/s/scnitm/anthonyh-SpecialLectureSeries-Webs
LOCATION:AGR Carslaw 829
END:VEVENT
BEGIN:VEVENT
UID:scnitm-3377062-1776777890-5
DTSTART;TZID=my/AEST:20150617T160000
DTEND;TZID=my/AEST:20150617T173000
SUMMARY:Special Lecture Series: Webster -- Representation theory through the lens of categorical actions
DESCRIPTION:See scnews item https://talus.maths.usyd.edu.au/s/scnitm/anthonyh-SpecialLectureSeries-Webs
LOCATION:AGR Carslaw 829
END:VEVENT
BEGIN:VEVENT
UID:scnitm-3377062-1776777890-6
DTSTART;TZID=my/AEST:20150624T160000
DTEND;TZID=my/AEST:20150624T173000
SUMMARY:Special Lecture Series: Webster -- Representation theory through the lens of categorical actions
DESCRIPTION:See scnews item https://talus.maths.usyd.edu.au/s/scnitm/anthonyh-SpecialLectureSeries-Webs
LOCATION:AGR Carslaw 829
END:VEVENT
END:VCALENDAR

