BEGIN:VCALENDAR
PRODID:scnitm
VERSION:2.0
BEGIN:VTIMEZONE
TZID:my/AEST
BEGIN:STANDARD
DTSTART:19700101T010000
TZOFFSETFROM:+1000
TZOFFSETTO:+1000
END:STANDARD
END:VTIMEZONE
BEGIN:VTIMEZONE
TZID:my/AEDT
BEGIN:STANDARD
DTSTART:19700101T010000
TZOFFSETFROM:+1100
TZOFFSETTO:+1100
END:STANDARD
END:VTIMEZONE
BEGIN:VEVENT
UID:scnitm-3378862-1776778283-1
DTSTART;TZID=my/AEST:20071005T120500
DTEND;TZID=my/AEST:20071005T125500
SUMMARY:Algebra Seminar: Futorny -- Fibres of characters in Harish-Chandra categories
DESCRIPTION:See scnews item https://talus.maths.usyd.edu.au/s/scnitm/anthonyh-AlgebraSeminar-Vyacheslav
LOCATION:Carslaw 373
END:VEVENT
END:VCALENDAR

