BEGIN:VCALENDAR
PRODID:scnitm
VERSION:2.0
BEGIN:VTIMEZONE
TZID:my/AEST
BEGIN:STANDARD
DTSTART:19700101T010000
TZOFFSETFROM:+1000
TZOFFSETTO:+1000
END:STANDARD
END:VTIMEZONE
BEGIN:VTIMEZONE
TZID:my/AEDT
BEGIN:STANDARD
DTSTART:19700101T010000
TZOFFSETFROM:+1100
TZOFFSETTO:+1100
END:STANDARD
END:VTIMEZONE
BEGIN:VEVENT
UID:scnitm-3357866-1776773777-1
DTSTART;TZID=my/AEST:20070921T120500
DTEND;TZID=my/AEST:20070921T125500
SUMMARY:Algebra Seminar: O'Sullivan -- The generalised Jacobson-Morosov theorem
DESCRIPTION:See scnews item https://talus.maths.usyd.edu.au/s/scnitm/anthonyh-AlgebraSeminar-PeterO-Sul
LOCATION:Carslaw 373
END:VEVENT
END:VCALENDAR

