BEGIN:VCALENDAR
PRODID:scnitm
VERSION:2.0
BEGIN:VTIMEZONE
TZID:my/AEST
BEGIN:STANDARD
DTSTART:19700101T010000
TZOFFSETFROM:+1000
TZOFFSETTO:+1000
END:STANDARD
END:VTIMEZONE
BEGIN:VTIMEZONE
TZID:my/AEDT
BEGIN:STANDARD
DTSTART:19700101T010000
TZOFFSETFROM:+1100
TZOFFSETTO:+1100
END:STANDARD
END:VTIMEZONE
BEGIN:VEVENT
UID:scnitm-3360989-1776774131-1
DTSTART;TZID=my/AEST:20240814T090000
DTEND;TZID=my/AEST:20240814T110000
SUMMARY:Kazhdan-Lusztig equivalences learning seminar
DESCRIPTION:See scnews item https://talus.maths.usyd.edu.au/s/scnitm/alexs-Kazhdan-LusztigEquivalenc
LOCATION:SMRI Seminar Room (Macleay Building A12 Room 301)
END:VEVENT
BEGIN:VEVENT
UID:scnitm-3360989-1776774131-2
DTSTART;TZID=my/AEST:20240821T090000
DTEND;TZID=my/AEST:20240821T110000
SUMMARY:Kazhdan-Lusztig equivalences learning seminar
DESCRIPTION:See scnews item https://talus.maths.usyd.edu.au/s/scnitm/alexs-Kazhdan-LusztigEquivalenc
LOCATION:SMRI Seminar Room (Macleay Building A12 Room 301)
END:VEVENT
BEGIN:VEVENT
UID:scnitm-3360989-1776774131-3
DTSTART;TZID=my/AEST:20240828T090000
DTEND;TZID=my/AEST:20240828T110000
SUMMARY:Kazhdan-Lusztig equivalences learning seminar
DESCRIPTION:See scnews item https://talus.maths.usyd.edu.au/s/scnitm/alexs-Kazhdan-LusztigEquivalenc
LOCATION:SMRI Seminar Room (Macleay Building A12 Room 301)
END:VEVENT
BEGIN:VEVENT
UID:scnitm-3360989-1776774131-4
DTSTART;TZID=my/AEST:20240904T090000
DTEND;TZID=my/AEST:20240904T110000
SUMMARY:Kazhdan-Lusztig equivalences learning seminar
DESCRIPTION:See scnews item https://talus.maths.usyd.edu.au/s/scnitm/alexs-Kazhdan-LusztigEquivalenc
LOCATION:SMRI Seminar Room (Macleay Building A12 Room 301)
END:VEVENT
BEGIN:VEVENT
UID:scnitm-3360989-1776774131-5
DTSTART;TZID=my/AEST:20240911T090000
SUMMARY:Kazhdan-Lusztig equivalences learning seminar
DESCRIPTION:See scnews item https://talus.maths.usyd.edu.au/s/scnitm/alexs-Kazhdan-LusztigEquivalenc
LOCATION:SMRI Seminar Room (Macleay Building A12 Room 301)
END:VEVENT
BEGIN:VEVENT
UID:scnitm-3360989-1776774131-6
DTSTART;TZID=my/AEST:20240918T090000
DTEND;TZID=my/AEST:20240918T110000
SUMMARY:Kazhdan-Lusztig equivalences learning seminar
DESCRIPTION:See scnews item https://talus.maths.usyd.edu.au/s/scnitm/alexs-Kazhdan-LusztigEquivalenc
LOCATION:SMRI Seminar Room (Macleay Building A12 Room 301)
END:VEVENT
BEGIN:VEVENT
UID:scnitm-3360989-1776774131-7
DTSTART;TZID=my/AEST:20240925T090000
DTEND;TZID=my/AEST:20240925T110000
SUMMARY:Kazhdan-Lusztig equivalences learning seminar
DESCRIPTION:See scnews item https://talus.maths.usyd.edu.au/s/scnitm/alexs-Kazhdan-LusztigEquivalenc
LOCATION:SMRI Seminar Room (Macleay Building A12 Room 301)
END:VEVENT
BEGIN:VEVENT
UID:scnitm-3360989-1776774131-8
DTSTART;TZID=my/AEDT:20241009T090000
DTEND;TZID=my/AEDT:20241009T110000
SUMMARY:Kazhdan-Lusztig equivalences learning seminar
DESCRIPTION:See scnews item https://talus.maths.usyd.edu.au/s/scnitm/alexs-Kazhdan-LusztigEquivalenc
LOCATION:SMRI Seminar Room (Macleay Building A12 Room 301)
END:VEVENT
BEGIN:VEVENT
UID:scnitm-3360989-1776774131-9
DTSTART;TZID=my/AEDT:20241016T090000
DTEND;TZID=my/AEDT:20241016T110000
SUMMARY:Kazhdan-Lusztig equivalences learning seminar
DESCRIPTION:See scnews item https://talus.maths.usyd.edu.au/s/scnitm/alexs-Kazhdan-LusztigEquivalenc
LOCATION:SMRI Seminar Room (Macleay Building A12 Room 301)
END:VEVENT
BEGIN:VEVENT
UID:scnitm-3360989-1776774131-10
DTSTART;TZID=my/AEDT:20241023T090000
DTEND;TZID=my/AEDT:20241023T110000
SUMMARY:Kazhdan-Lusztig equivalences learning seminar
DESCRIPTION:See scnews item https://talus.maths.usyd.edu.au/s/scnitm/alexs-Kazhdan-LusztigEquivalenc
LOCATION:SMRI Seminar Room (Macleay Building A12 Room 301)
END:VEVENT
BEGIN:VEVENT
UID:scnitm-3360989-1776774131-11
DTSTART;TZID=my/AEDT:20241030T090000
DTEND;TZID=my/AEDT:20241030T110000
SUMMARY:Kazhdan-Lusztig equivalences learning seminar
DESCRIPTION:See scnews item https://talus.maths.usyd.edu.au/s/scnitm/alexs-Kazhdan-LusztigEquivalenc
LOCATION:SMRI Seminar Room (Macleay Building A12 Room 301)
END:VEVENT
BEGIN:VEVENT
UID:scnitm-3360989-1776774131-12
DTSTART;TZID=my/AEDT:20241106T090000
DTEND;TZID=my/AEDT:20241106T110000
SUMMARY:Kazhdan-Lusztig equivalences learning seminar
DESCRIPTION:See scnews item https://talus.maths.usyd.edu.au/s/scnitm/alexs-Kazhdan-LusztigEquivalenc
LOCATION:SMRI Seminar Room (Macleay Building A12 Room 301)
END:VEVENT
BEGIN:VEVENT
UID:scnitm-3360989-1776774131-13
DTSTART;TZID=my/AEDT:20241113T090000
DTEND;TZID=my/AEDT:20241113T110000
SUMMARY:Kazhdan-Lusztig equivalences learning seminar
DESCRIPTION:See scnews item https://talus.maths.usyd.edu.au/s/scnitm/alexs-Kazhdan-LusztigEquivalenc
LOCATION:SMRI Seminar Room (Macleay Building A12 Room 301)
END:VEVENT
END:VCALENDAR

