BEGIN:VCALENDAR
PRODID:scnitm
VERSION:2.0
BEGIN:VTIMEZONE
TZID:my/AEST
BEGIN:STANDARD
DTSTART:19700101T010000
TZOFFSETFROM:+1000
TZOFFSETTO:+1000
END:STANDARD
END:VTIMEZONE
BEGIN:VTIMEZONE
TZID:my/AEDT
BEGIN:STANDARD
DTSTART:19700101T010000
TZOFFSETFROM:+1100
TZOFFSETTO:+1100
END:STANDARD
END:VTIMEZONE
BEGIN:VEVENT
UID:scnitm-3359748-1776773990-1
DTSTART;TZID=my/AEST:20240524T120000
DTEND;TZID=my/AEST:20240524T130000
SUMMARY:Algebra Seminar: A combinatorial study of Harder--Narasimhan filtrations
DESCRIPTION:See scnews item https://talus.maths.usyd.edu.au/s/scnitm/alexs-AlgebraSeminar-AsilataBap
LOCATION:SMRI Seminar Room (Macleay Building A12 Room 301)
END:VEVENT
END:VCALENDAR

